Workbook

Sheet DelNyugatBorzs_OszlTerv2020
A1: poi_id | B1: name | C1: Oszlop Státusz | D1: areaownercode | E1: oszlop_comment | F1: Térképen | G1: Nyilvántartásban | H1: oszlopid | I1: priority | J1: TuristaCelpontLehet | K1: latitude | L1: longitude | M1: oszlop_ext_id | N1: utolsofenykepdatuma | O1: UtolsoOszlopInfo | P1: Link: Helyszín! | Q1: Link: Nyilvántartás!
A2: 216 | B2: Diós-kút | C2: NINCSDEJOLENNE | D2: IE_NAGYMAROS | E2: 0 | F2: =HYPERLINK(P2,"Térkép") -> Térkép | G2: =HYPERLINK(Q2,"Fotók/Adatok") -> Fotók/Adatok | I2: KICSI | J2: IGEN | K2: 47.92501700 | L2: 18.87928300 | P2: =CONCATENATE(Sheet3!$A$1,DelNyugatBorzs_OszlTerv2020!K2,Sheet3!$B$1,DelNyugatBorzs_OszlTerv2020!L2,Sheet3!$C$1) -> https://turistautak.hu/maps/mapnik/index.php?lat=47.92501700&lon=18.87928300&zoom=14&layers=00B00&arrow=1 | Q2: http://bthe.bernece.hu/poi_detail.php?poi_id=216
A3: 141 | B3: Dobozi orom - Remete barlang elág. (S+/Kbarlang) | C3: NINCSDEJOLENNE | D3: IE_NAGYMAROS | E3: 0 | F3: =HYPERLINK(P3,"Térkép") -> Térkép | G3: =HYPERLINK(Q3,"Fotók/Adatok") -> Fotók/Adatok | I3: KICSI | J3: NEM | K3: 47.77539100 | L3: 18.91946400 | P3: =CONCATENATE(Sheet3!$A$1,DelNyugatBorzs_OszlTerv2020!K3,Sheet3!$B$1,DelNyugatBorzs_OszlTerv2020!L3,Sheet3!$C$1) -> https://turistautak.hu/maps/mapnik/index.php?lat=47.77539100&lon=18.91946400&zoom=14&layers=00B00&arrow=1 | Q3: http://bthe.bernece.hu/poi_detail.php?poi_id=141
A4: 199 | B4: Gerendás-büfé | C4: NemTeljesenOK | E4: az adattartalom helyes, a környék borzasztó, valószínűleg odébb kéne helyezni az oszlopot, a helyszínt megette a civilizáció sötét oldala. | F4: =HYPERLINK(P4,"Térkép") -> Térkép | G4: =HYPERLINK(Q4,"Fotók/Adatok") -> Fotók/Adatok | H4: 95 | I4: KICSI | J4: NEM | K4: 47.82172000 | L4: 18.98583600 | M4: BTHE-32 | N4: 43933 | O4: 43923 | P4: =CONCATENATE(Sheet3!$A$1,DelNyugatBorzs_OszlTerv2020!K4,Sheet3!$B$1,DelNyugatBorzs_OszlTerv2020!L4,Sheet3!$C$1) -> https://turistautak.hu/maps/mapnik/index.php?lat=47.82172000&lon=18.98583600&zoom=14&layers=00B00&arrow=1 | Q4: http://bthe.bernece.hu/poi_detail.php?poi_id=199
A5: 189 | B5: Gubacsi-hálás, feljárat (parkoló) | C5: NemTeljesenOK | D5: IE_NAGYMAROS | E5: Felületkezelés szükséges. Táblák felújítása opcionális, Honti Piros turistaút frissítéssel. | F5: =HYPERLINK(P5,"Térkép") -> Térkép | G5: =HYPERLINK(Q5,"Fotók/Adatok") -> Fotók/Adatok | H5: 73 | I5: KICSI | J5: NEM | K5: 47.81285300 | L5: 18.95483600 | M5: BTHE-35 | N5: 43902 | O5: 43902 | P5: =CONCATENATE(Sheet3!$A$1,DelNyugatBorzs_OszlTerv2020!K5,Sheet3!$B$1,DelNyugatBorzs_OszlTerv2020!L5,Sheet3!$C$1) -> https://turistautak.hu/maps/mapnik/index.php?lat=47.81285300&lon=18.95483600&zoom=14&layers=00B00&arrow=1 | Q5: http://bthe.bernece.hu/poi_detail.php?poi_id=189
A6: 207 | B6: Hosszú-völgyi/Kereszt-völgyi patak elág (S/S3K+) | C6: NINCSDEJOLENNE | D6: IE_NAGYMAROS | E6: 0 | F6: =HYPERLINK(P6,"Térkép") -> Térkép | G6: =HYPERLINK(Q6,"Fotók/Adatok") -> Fotók/Adatok | I6: KICSI | J6: NEM | K6: 47.92650100 | L6: 18.84795800 | P6: =CONCATENATE(Sheet3!$A$1,DelNyugatBorzs_OszlTerv2020!K6,Sheet3!$B$1,DelNyugatBorzs_OszlTerv2020!L6,Sheet3!$C$1) -> https://turistautak.hu/maps/mapnik/index.php?lat=47.92650100&lon=18.84795800&zoom=14&layers=00B00&arrow=1 | Q6: http://bthe.bernece.hu/poi_detail.php?poi_id=207
A7: 196 | B7: Kismaros vmh. | C7: NINCSDEJOLENNE | E7: Lacus_0923 Excel szerint volt oszlop, 114m Kismaros vmh. felirattal. Már nincs (2020). | F7: =HYPERLINK(P7,"Térkép") -> Térkép | G7: =HYPERLINK(Q7,"Fotók/Adatok") -> Fotók/Adatok | I7: KÖZEPES | J7: IGEN | K7: 47.82696500 | L7: 19.01341700 | P7: =CONCATENATE(Sheet3!$A$1,DelNyugatBorzs_OszlTerv2020!K7,Sheet3!$B$1,DelNyugatBorzs_OszlTerv2020!L7,Sheet3!$C$1) -> https://turistautak.hu/maps/mapnik/index.php?lat=47.82696500&lon=19.01341700&zoom=14&layers=00B00&arrow=1 | Q7: http://bthe.bernece.hu/poi_detail.php?poi_id=196
A8: 135 | B8: Kopasz-hegy nyerge | C8: NINCSDEJOLENNE | D8: IE_NAGYMAROS | E8: 0 | F8: =HYPERLINK(P8,"Térkép") -> Térkép | G8: =HYPERLINK(Q8,"Fotók/Adatok") -> Fotók/Adatok | I8: KICSI | J8: NEM | K8: 47.88241000 | L8: 18.88277100 | P8: =CONCATENATE(Sheet3!$A$1,DelNyugatBorzs_OszlTerv2020!K8,Sheet3!$B$1,DelNyugatBorzs_OszlTerv2020!L8,Sheet3!$C$1) -> https://turistautak.hu/maps/mapnik/index.php?lat=47.88241000&lon=18.88277100&zoom=14&layers=00B00&arrow=1 | Q8: http://bthe.bernece.hu/poi_detail.php?poi_id=135
A9: 90 | B9: Koppány-nyereg | C9: NemOK | D9: IE_NAGYMAROS | E9: BKT eredeti nyomvonalra visszahelyezése miatt valószínűleg tábla cserélendő/javítandó. Illetve legutóbbi fotón nem látszik hogy meglenne a K+ Nagyirtási ágának táblája:( | F9: =HYPERLINK(P9,"Térkép") -> Térkép | G9: =HYPERLINK(Q9,"Fotók/Adatok") -> Fotók/Adatok | H9: 69 | I9: KÖZEPES | J9: IGEN | K9: 47.90237600 | L9: 18.84399100 | M9: BTHE-13 | N9: 43975 | O9: 43739 | P9: =CONCATENATE(Sheet3!$A$1,DelNyugatBorzs_OszlTerv2020!K9,Sheet3!$B$1,DelNyugatBorzs_OszlTerv2020!L9,Sheet3!$C$1) -> https://turistautak.hu/maps/mapnik/index.php?lat=47.90237600&lon=18.84399100&zoom=14&layers=00B00&arrow=1 | Q9: http://bthe.bernece.hu/poi_detail.php?poi_id=90
A10: 164 | B10: Kövesmező | C10: NemTeljesenOK | D10: IE_NAGYMAROS | E10: K+ és Z3 fóliák lejövőben, Tanösvény tábla?? | F10: =HYPERLINK(P10,"Térkép") -> Térkép | G10: =HYPERLINK(Q10,"Fotók/Adatok") -> Fotók/Adatok | H10: 64 | I10: KÖZEPES | J10: IGEN | K10: 47.79812600 | L10: 18.94353800 | N10: 43902 | O10: 43902 | P10: =CONCATENATE(Sheet3!$A$1,DelNyugatBorzs_OszlTerv2020!K10,Sheet3!$B$1,DelNyugatBorzs_OszlTerv2020!L10,Sheet3!$C$1) -> https://turistautak.hu/maps/mapnik/index.php?lat=47.79812600&lon=18.94353800&zoom=14&layers=00B00&arrow=1 | Q10: http://bthe.bernece.hu/poi_detail.php?poi_id=164
A11: 93 | B11: Letkés (központ) | C11: NemOK | E11: Z- matricit cserélni, K+ táblát újracsavarozni. Oszlopot festeni. | F11: =HYPERLINK(P11,"Térkép") -> Térkép | G11: =HYPERLINK(Q11,"Fotók/Adatok") -> Fotók/Adatok | H11: 80 | I11: KÖZEPES | J11: IGEN | K11: 47.88557000 | L11: 18.77640000 | M11: BTHE-41 | N11: 43933 | O11: 43933 | P11: =CONCATENATE(Sheet3!$A$1,DelNyugatBorzs_OszlTerv2020!K11,Sheet3!$B$1,DelNyugatBorzs_OszlTerv2020!L11,Sheet3!$C$1) -> https://turistautak.hu/maps/mapnik/index.php?lat=47.88557000&lon=18.77640000&zoom=14&layers=00B00&arrow=1 | Q11: http://bthe.bernece.hu/poi_detail.php?poi_id=93
A12: 150 | B12: Letkés, Liliom puszta-major | C12: NemOK | E12: Matrica (Z4) foszlik le. Oszlop és táblafestés is jó lenne. | F12: =HYPERLINK(P12,"Térkép") -> Térkép | G12: =HYPERLINK(Q12,"Fotók/Adatok") -> Fotók/Adatok | H12: 81 | I12: KICSI | J12: IGEN | K12: 47.87314100 | L12: 18.78638100 | N12: 43933 | O12: 43933 | P12: =CONCATENATE(Sheet3!$A$1,DelNyugatBorzs_OszlTerv2020!K12,Sheet3!$B$1,DelNyugatBorzs_OszlTerv2020!L12,Sheet3!$C$1) -> https://turistautak.hu/maps/mapnik/index.php?lat=47.87314100&lon=18.78638100&zoom=14&layers=00B00&arrow=1 | Q12: http://bthe.bernece.hu/poi_detail.php?poi_id=150
A13: 119 | B13: Márianosztra aut. Ford. | C13: NemTeljesenOK | E13: Kéne még 2 tábla: K4 (Sukola kereszt felé) és PL (Zuvár felé) | F13: =HYPERLINK(P13,"Térkép") -> Térkép | G13: =HYPERLINK(Q13,"Fotók/Adatok") -> Fotók/Adatok | H13: 65 | I13: KÖZEPES | J13: IGEN | K13: 47.86475000 | L13: 18.87054000 | N13: 43879 | O13: 43873 | P13: =CONCATENATE(Sheet3!$A$1,DelNyugatBorzs_OszlTerv2020!K13,Sheet3!$B$1,DelNyugatBorzs_OszlTerv2020!L13,Sheet3!$C$1) -> https://turistautak.hu/maps/mapnik/index.php?lat=47.86475000&lon=18.87054000&zoom=14&layers=00B00&arrow=1 | Q13: http://bthe.bernece.hu/poi_detail.php?poi_id=119
A14: 118 | B14: Márianosztra vá. | C14: NemTeljesenOK | E14: Az elé ültetett fa egyre jobban takarni fogja:( / feliratot érdemes lenne cserélni | F14: =HYPERLINK(P14,"Térkép") -> Térkép | G14: =HYPERLINK(Q14,"Fotók/Adatok") -> Fotók/Adatok | H14: 66 | I14: KICSI | J14: IGEN | K14: 47.86616600 | L14: 18.86580000 | N14: 43879 | O14: 43873 | P14: =CONCATENATE(Sheet3!$A$1,DelNyugatBorzs_OszlTerv2020!K14,Sheet3!$B$1,DelNyugatBorzs_OszlTerv2020!L14,Sheet3!$C$1) -> https://turistautak.hu/maps/mapnik/index.php?lat=47.86616600&lon=18.86580000&zoom=14&layers=00B00&arrow=1 | Q14: http://bthe.bernece.hu/poi_detail.php?poi_id=118
A15: 117 | B15: Márianosztra vá. Elág. | C15: NemTeljesenOK | E15: Feliratok hámlanak, lassan cserélni kell majd | F15: =HYPERLINK(P15,"Térkép") -> Térkép | G15: =HYPERLINK(Q15,"Fotók/Adatok") -> Fotók/Adatok | H15: 67 | I15: KICSI | J15: NEM | K15: 47.86633300 | L15: 18.86608200 | N15: 43879 | O15: 43873 | P15: =CONCATENATE(Sheet3!$A$1,DelNyugatBorzs_OszlTerv2020!K15,Sheet3!$B$1,DelNyugatBorzs_OszlTerv2020!L15,Sheet3!$C$1) -> https://turistautak.hu/maps/mapnik/index.php?lat=47.86633300&lon=18.86608200&zoom=14&layers=00B00&arrow=1 | Q15: http://bthe.bernece.hu/poi_detail.php?poi_id=117
A16: 103 | B16: Nagy Magfa (K+/Ko) | C16: NemTeljesenOK | D16: IE_NAGYMAROS | E16: Az oszlopot 2019-ben a K+ Vasutas forrás feletti terelése miatt áthelyezte BeziJani (Régi helye: 47.859995, 18.837383) A táblák adattartalma és iránya emiatt javítandó. | F16: =HYPERLINK(P16,"Térkép") -> Térkép | G16: =HYPERLINK(Q16,"Fotók/Adatok") -> Fotók/Adatok | H16: 23 | I16: KICSI | J16: NEM | K16: 47.85851600 | L16: 18.83793800 | N16: 43645 | O16: 43645 | P16: =CONCATENATE(Sheet3!$A$1,DelNyugatBorzs_OszlTerv2020!K16,Sheet3!$B$1,DelNyugatBorzs_OszlTerv2020!L16,Sheet3!$C$1) -> https://turistautak.hu/maps/mapnik/index.php?lat=47.85851600&lon=18.83793800&zoom=14&layers=00B00&arrow=1 | Q16: http://bthe.bernece.hu/poi_detail.php?poi_id=103
A17: 83 | B17: Nagybörzsöny, Bogár-kert (KP/K4) | C17: NemTeljesenOK | D17: IE_NAGYMAROS | E17: 2020: Oszlop állapota tökéletes. Helyfelirat mohás középen, Egyik BKT tábla részben lejött, P- Perőcsény közvetlen célpont mivel régi (Honti Piros előtti) a tábla. | F17: =HYPERLINK(P17,"Térkép") -> Térkép | G17: =HYPERLINK(Q17,"Fotók/Adatok") -> Fotók/Adatok | H17: 17 | I17: KICSI | J17: NEM | K17: 47.93838000 | L17: 18.84372000 | M17: BTHE-39 | N17: 43850 | O17: 43850 | P17: =CONCATENATE(Sheet3!$A$1,DelNyugatBorzs_OszlTerv2020!K17,Sheet3!$B$1,DelNyugatBorzs_OszlTerv2020!L17,Sheet3!$C$1) -> https://turistautak.hu/maps/mapnik/index.php?lat=47.93838000&lon=18.84372000&zoom=14&layers=00B00&arrow=1 | Q17: http://bthe.bernece.hu/poi_detail.php?poi_id=83
A18: 126 | B18: Nagyirtás, Vetettfű elág. | C18: NINCSDEJOLENNE | D18: IE_NAGYMAROS | E18: 0 | F18: =HYPERLINK(P18,"Térkép") -> Térkép | G18: =HYPERLINK(Q18,"Fotók/Adatok") -> Fotók/Adatok | I18: KICSI | J18: NEM | K18: 47.89873700 | L18: 18.88001900 | P18: =CONCATENATE(Sheet3!$A$1,DelNyugatBorzs_OszlTerv2020!K18,Sheet3!$B$1,DelNyugatBorzs_OszlTerv2020!L18,Sheet3!$C$1) -> https://turistautak.hu/maps/mapnik/index.php?lat=47.89873700&lon=18.88001900&zoom=14&layers=00B00&arrow=1 | Q18: http://bthe.bernece.hu/poi_detail.php?poi_id=126
A19: 81 | B19: Pogány-hegyek alja elág. (K/K+) | C19: NINCSDEJOLENNE | D19: IE_NAGYMAROS | E19: 0 | F19: =HYPERLINK(P19,"Térkép") -> Térkép | G19: =HYPERLINK(Q19,"Fotók/Adatok") -> Fotók/Adatok | I19: KICSI | J19: NEM | K19: 47.94249200 | L19: 18.88435900 | P19: =CONCATENATE(Sheet3!$A$1,DelNyugatBorzs_OszlTerv2020!K19,Sheet3!$B$1,DelNyugatBorzs_OszlTerv2020!L19,Sheet3!$C$1) -> https://turistautak.hu/maps/mapnik/index.php?lat=47.94249200&lon=18.88435900&zoom=14&layers=00B00&arrow=1 | Q19: http://bthe.bernece.hu/poi_detail.php?poi_id=81
A20: 148 | B20: Rigó-hegy, Remete-bg. elág. (S/Sbarlang) | C20: NINCSDEJOLENNE | D20: IE_NAGYMAROS | E20: 0 | F20: =HYPERLINK(P20,"Térkép") -> Térkép | G20: =HYPERLINK(Q20,"Fotók/Adatok") -> Fotók/Adatok | I20: KICSI | J20: NEM | K20: 47.77618400 | L20: 18.93566400 | P20: =CONCATENATE(Sheet3!$A$1,DelNyugatBorzs_OszlTerv2020!K20,Sheet3!$B$1,DelNyugatBorzs_OszlTerv2020!L20,Sheet3!$C$1) -> https://turistautak.hu/maps/mapnik/index.php?lat=47.77618400&lon=18.93566400&zoom=14&layers=00B00&arrow=1 | Q20: http://bthe.bernece.hu/poi_detail.php?poi_id=148
A21: 204 | B21: Sukola-kereszt feletti elágazás (BKT/K4) | C21: NemTeljesenOK | E21: Az oszlop 2020 márciusában került át ide a csomópontba a kereszttől. | F21: =HYPERLINK(P21,"Térkép") -> Térkép | G21: =HYPERLINK(Q21,"Fotók/Adatok") -> Fotók/Adatok | H21: 31 | I21: KICSI | J21: NEM | K21: 47.84130200 | L21: 18.86754000 | M21: BTHE-16 | N21: 43913 | O21: 43913 | P21: =CONCATENATE(Sheet3!$A$1,DelNyugatBorzs_OszlTerv2020!K21,Sheet3!$B$1,DelNyugatBorzs_OszlTerv2020!L21,Sheet3!$C$1) -> https://turistautak.hu/maps/mapnik/index.php?lat=47.84130200&lon=18.86754000&zoom=14&layers=00B00&arrow=1 | Q21: http://bthe.bernece.hu/poi_detail.php?poi_id=204
A22: 203 | B22: Száraz fák Z/Z+ elág. (Kismaros/Szokolya) | C22: NemOK | D22: IE_NAGYMAROS | E22: cserére érett. | F22: =HYPERLINK(P22,"Térkép") -> Térkép | G22: =HYPERLINK(Q22,"Fotók/Adatok") -> Fotók/Adatok | H22: 96 | I22: KICSI | J22: NEM | K22: 47.84888900 | L22: 18.96317000 | N22: 43902 | O22: 43902 | P22: =CONCATENATE(Sheet3!$A$1,DelNyugatBorzs_OszlTerv2020!K22,Sheet3!$B$1,DelNyugatBorzs_OszlTerv2020!L22,Sheet3!$C$1) -> https://turistautak.hu/maps/mapnik/index.php?lat=47.84888900&lon=18.96317000&zoom=14&layers=00B00&arrow=1 | Q22: http://bthe.bernece.hu/poi_detail.php?poi_id=203
A23: 162 | B23: Széles-hegy, csúcs | C23: NemTeljesenOK | D23: IE_NAGYMAROS | E23: A 2017-es(?) fólia úgy tűnik kezd lejönni. | F23: =HYPERLINK(P23,"Térkép") -> Térkép | G23: =HYPERLINK(Q23,"Fotók/Adatok") -> Fotók/Adatok | H23: 37 | I23: KICSI | J23: IGEN | K23: 47.88920200 | L23: 18.84010800 | N23: 43365 | O23: 43365 | P23: =CONCATENATE(Sheet3!$A$1,DelNyugatBorzs_OszlTerv2020!K23,Sheet3!$B$1,DelNyugatBorzs_OszlTerv2020!L23,Sheet3!$C$1) -> https://turistautak.hu/maps/mapnik/index.php?lat=47.88920200&lon=18.84010800&zoom=14&layers=00B00&arrow=1 | Q23: http://bthe.bernece.hu/poi_detail.php?poi_id=162
A24: 198 | B24: Szent-Gál-föld | C24: NemOK | E24: Új oszlop szükséges, táblák sincsenek már.. | F24: =HYPERLINK(P24,"Térkép") -> Térkép | G24: =HYPERLINK(Q24,"Fotók/Adatok") -> Fotók/Adatok | H24: 89 | I24: KICSI | J24: NEM | K24: 47.83941800 | L24: 18.95185100 | N24: 43902 | O24: 43902 | P24: =CONCATENATE(Sheet3!$A$1,DelNyugatBorzs_OszlTerv2020!K24,Sheet3!$B$1,DelNyugatBorzs_OszlTerv2020!L24,Sheet3!$C$1) -> https://turistautak.hu/maps/mapnik/index.php?lat=47.83941800&lon=18.95185100&zoom=14&layers=00B00&arrow=1 | Q24: http://bthe.bernece.hu/poi_detail.php?poi_id=198
A25: 111 | B25: Szob, vá. | C25: NemTeljesenOK | E25: Az oszlopot lassan érdemes lenne újrafesteni. Macikupac20200330: A helymegjelölő tábla lóg. | F25: =HYPERLINK(P25,"Térkép") -> Térkép | G25: =HYPERLINK(Q25,"Fotók/Adatok") -> Fotók/Adatok | H25: 39 | I25: MAGAS | J25: IGEN | K25: 47.82138000 | L25: 18.86198000 | M25: BTHE-17 | N25: 43918 | O25: 43920 | P25: =CONCATENATE(Sheet3!$A$1,DelNyugatBorzs_OszlTerv2020!K25,Sheet3!$B$1,DelNyugatBorzs_OszlTerv2020!L25,Sheet3!$C$1) -> https://turistautak.hu/maps/mapnik/index.php?lat=47.82138000&lon=18.86198000&zoom=14&layers=00B00&arrow=1 | Q25: http://bthe.bernece.hu/poi_detail.php?poi_id=111
A26: 193 | B26: Törökmező, Fehér-forráscsoport elág. | C26: NemOK | E26: Újra kell állítani az oszlopot. Táblákat tisztítani vagy cserélni. | F26: =HYPERLINK(P26,"Térkép") -> Térkép | G26: =HYPERLINK(Q26,"Fotók/Adatok") -> Fotók/Adatok | H26: 76 | I26: KICSI | J26: NEM | K26: 47.83197200 | L26: 18.94357500 | N26: 43902 | O26: 43902 | P26: =CONCATENATE(Sheet3!$A$1,DelNyugatBorzs_OszlTerv2020!K26,Sheet3!$B$1,DelNyugatBorzs_OszlTerv2020!L26,Sheet3!$C$1) -> https://turistautak.hu/maps/mapnik/index.php?lat=47.83197200&lon=18.94357500&zoom=14&layers=00B00&arrow=1 | Q26: http://bthe.bernece.hu/poi_detail.php?poi_id=193
A27: 106 | B27: Vasutas forrás elág. | C27: NemTeljesenOK | D27: IE_NAGYMAROS | E27: Kék+ változás nem érinti? | F27: =HYPERLINK(P27,"Térkép") -> Térkép | G27: =HYPERLINK(Q27,"Fotók/Adatok") -> Fotók/Adatok | H27: 41 | I27: KICSI | J27: NEM | K27: 47.85478500 | L27: 18.84598800 | N27: 43513 | O27: 43513 | P27: =CONCATENATE(Sheet3!$A$1,DelNyugatBorzs_OszlTerv2020!K27,Sheet3!$B$1,DelNyugatBorzs_OszlTerv2020!L27,Sheet3!$C$1) -> https://turistautak.hu/maps/mapnik/index.php?lat=47.85478500&lon=18.84598800&zoom=14&layers=00B00&arrow=1 | Q27: http://bthe.bernece.hu/poi_detail.php?poi_id=106

Sheet Sheet3
A1: https://turistautak.hu/maps/mapnik/index.php?lat= | B1: &lon= | C1: &zoom=14&layers=00B00&arrow=1
A2: http://bthe.bernece.hu/poi_detail.php?poi_id=
